BEGIN:VCALENDAR
VERSION:2.0
PRODID:-//Del Norte Colorado - ECPv6.15.20//NONSGML v1.0//EN
CALSCALE:GREGORIAN
METHOD:PUBLISH
X-ORIGINAL-URL:https://www.delnortecolorado.com
X-WR-CALDESC:Events for Del Norte Colorado
REFRESH-INTERVAL;VALUE=DURATION:PT1H
X-Robots-Tag:noindex
X-PUBLISHED-TTL:PT1H
BEGIN:VTIMEZONE
TZID:America/Denver
BEGIN:DAYLIGHT
TZOFFSETFROM:-0700
TZOFFSETTO:-0600
TZNAME:MDT
DTSTART:20240310T090000
END:DAYLIGHT
BEGIN:STANDARD
TZOFFSETFROM:-0600
TZOFFSETTO:-0700
TZNAME:MST
DTSTART:20241103T080000
END:STANDARD
BEGIN:DAYLIGHT
TZOFFSETFROM:-0700
TZOFFSETTO:-0600
TZNAME:MDT
DTSTART:20250309T090000
END:DAYLIGHT
BEGIN:STANDARD
TZOFFSETFROM:-0600
TZOFFSETTO:-0700
TZNAME:MST
DTSTART:20251102T080000
END:STANDARD
BEGIN:DAYLIGHT
TZOFFSETFROM:-0700
TZOFFSETTO:-0600
TZNAME:MDT
DTSTART:20260308T090000
END:DAYLIGHT
BEGIN:STANDARD
TZOFFSETFROM:-0600
TZOFFSETTO:-0700
TZNAME:MST
DTSTART:20261101T080000
END:STANDARD
BEGIN:DAYLIGHT
TZOFFSETFROM:-0700
TZOFFSETTO:-0600
TZNAME:MDT
DTSTART:20270314T090000
END:DAYLIGHT
BEGIN:STANDARD
TZOFFSETFROM:-0600
TZOFFSETTO:-0700
TZNAME:MST
DTSTART:20271107T080000
END:STANDARD
END:VTIMEZONE
BEGIN:VEVENT
DTSTART;TZID=America/Denver:20260114T173000
DTEND;TZID=America/Denver:20260114T180000
DTSTAMP:20260422T165721
CREATED:20260113T204610Z
LAST-MODIFIED:20260113T204631Z
UID:10000414-1768411800-1768413600@www.delnortecolorado.com
SUMMARY:Public Hearing Liquor License Renewal 5:30pm
DESCRIPTION:Public Hearing Liquor License Renewal Mellow Moon Lodge \n5:30pm  Town Hall
URL:https://www.delnortecolorado.com/event/public-hearing-mellow-moon/
LOCATION:Del Norte Town Hall\, 140 Spruce Street\, Del Norte\, CO\, 81132\, United States
CATEGORIES:Public Hearings
END:VEVENT
BEGIN:VEVENT
DTSTART;TZID=America/Denver:20251210T173000
DTEND;TZID=America/Denver:20251210T180000
DTSTAMP:20260422T165721
CREATED:20251208T191233Z
LAST-MODIFIED:20251208T191233Z
UID:10000410-1765387800-1765389600@www.delnortecolorado.com
SUMMARY:Public Hearing 5:30pm
DESCRIPTION:Public Hearing for Sursy HR Liquor License DBA Mellow Moon Lodge \nTime: 5:30PM  at Town Hall
URL:https://www.delnortecolorado.com/event/public-hearing-530pm/
LOCATION:Del Norte Town Hall\, 140 Spruce Street\, Del Norte\, CO\, 81132\, United States
CATEGORIES:Public Hearings
END:VEVENT
BEGIN:VEVENT
DTSTART;TZID=America/Denver:20251117T180000
DTEND;TZID=America/Denver:20251117T200000
DTSTAMP:20260422T165721
CREATED:20251107T005502Z
LAST-MODIFIED:20251107T005630Z
UID:10000405-1763402400-1763409600@www.delnortecolorado.com
SUMMARY:Public Meeting Waste Water Project
DESCRIPTION:Public Meeting Waste Water Project\n6 pm at the Rio Grande Hospital Wellness Center \n0310 Cty Rd 14 \, Del Norte\, Co 81144 \nRead the Project Notes
URL:https://www.delnortecolorado.com/event/public-meeting-waste-water-project/
LOCATION:Rio Grande Hospital Wellness Center\, 0310 County Rd 14\, Del Norte\, CO\, 81132\, United States
CATEGORIES:Public Hearings
END:VEVENT
BEGIN:VEVENT
DTSTART;TZID=America/Denver:20251112T173000
DTEND;TZID=America/Denver:20251112T180000
DTSTAMP:20260422T165721
CREATED:20251107T010452Z
LAST-MODIFIED:20251107T010854Z
UID:10000407-1762968600-1762970400@www.delnortecolorado.com
SUMMARY:Public Hearing 2026 Proposed Town Budget
DESCRIPTION:Public Hearing for the 2026 Proposed Town Budget\nNovember 12\, 2025 at 5:45pm at Town Hall
URL:https://www.delnortecolorado.com/event/public-hearing-2026-proposed-town-budget/
LOCATION:Del Norte Town Hall\, 140 Spruce Street\, Del Norte\, CO\, 81132\, United States
CATEGORIES:Public Hearings
END:VEVENT
END:VCALENDAR