BEGIN:VCALENDAR
VERSION:2.0
PRODID:-//Del Norte Colorado - ECPv6.15.20//NONSGML v1.0//EN
CALSCALE:GREGORIAN
METHOD:PUBLISH
X-WR-CALNAME:Del Norte Colorado
X-ORIGINAL-URL:https://www.delnortecolorado.com
X-WR-CALDESC:Events for Del Norte Colorado
REFRESH-INTERVAL;VALUE=DURATION:PT1H
X-Robots-Tag:noindex
X-PUBLISHED-TTL:PT1H
BEGIN:VTIMEZONE
TZID:America/Denver
BEGIN:DAYLIGHT
TZOFFSETFROM:-0700
TZOFFSETTO:-0600
TZNAME:MDT
DTSTART:20240310T090000
END:DAYLIGHT
BEGIN:STANDARD
TZOFFSETFROM:-0600
TZOFFSETTO:-0700
TZNAME:MST
DTSTART:20241103T080000
END:STANDARD
BEGIN:DAYLIGHT
TZOFFSETFROM:-0700
TZOFFSETTO:-0600
TZNAME:MDT
DTSTART:20250309T090000
END:DAYLIGHT
BEGIN:STANDARD
TZOFFSETFROM:-0600
TZOFFSETTO:-0700
TZNAME:MST
DTSTART:20251102T080000
END:STANDARD
BEGIN:DAYLIGHT
TZOFFSETFROM:-0700
TZOFFSETTO:-0600
TZNAME:MDT
DTSTART:20260308T090000
END:DAYLIGHT
BEGIN:STANDARD
TZOFFSETFROM:-0600
TZOFFSETTO:-0700
TZNAME:MST
DTSTART:20261101T080000
END:STANDARD
BEGIN:DAYLIGHT
TZOFFSETFROM:-0700
TZOFFSETTO:-0600
TZNAME:MDT
DTSTART:20270314T090000
END:DAYLIGHT
BEGIN:STANDARD
TZOFFSETFROM:-0600
TZOFFSETTO:-0700
TZNAME:MST
DTSTART:20271107T080000
END:STANDARD
END:VTIMEZONE
BEGIN:VEVENT
DTSTART;TZID=America/Denver:20260812T180000
DTEND;TZID=America/Denver:20260812T200000
DTSTAMP:20260422T163904
CREATED:20250915T161339Z
LAST-MODIFIED:20250915T161635Z
UID:10000371-1786557600-1786564800@www.delnortecolorado.com
SUMMARY:Town Board Meeting 6pm
DESCRIPTION:Monthly Town Board Meeting at 6pm Town Hall \nYou may join in on zoom meeting at \nTHIS MEETING IS BEING HELD BY ZOOM AND/OR PHONE OR IN PERSON. PUBLIC AND VISITORS MAY CALL IN USING THE FOLLOWING INFORMATION\nJoin Zoom Meeting https://us02web.zoom.us/j/87546017550 Meeting ID: 875 4601 7550\nOne tap mobile +17193594580\,\,87546017550# US +12532050468\,\,87546017550# US \nView the Agenda
URL:https://www.delnortecolorado.com/event/town-board-meeting-6pm/2026-08-12/
LOCATION:Del Norte Town Hall\, 140 Spruce Street\, Del Norte\, CO\, 81132\, United States
CATEGORIES:Town Board Meetings
END:VEVENT
BEGIN:VEVENT
DTSTART;TZID=America/Denver:20260708T180000
DTEND;TZID=America/Denver:20260708T200000
DTSTAMP:20260422T163904
CREATED:20250915T161339Z
LAST-MODIFIED:20250915T161635Z
UID:10000394-1783533600-1783540800@www.delnortecolorado.com
SUMMARY:Town Board Meeting 6pm
DESCRIPTION:Monthly Town Board Meeting at 6pm Town Hall \nYou may join in on zoom meeting at \nTHIS MEETING IS BEING HELD BY ZOOM AND/OR PHONE OR IN PERSON. PUBLIC AND VISITORS MAY CALL IN USING THE FOLLOWING INFORMATION\nJoin Zoom Meeting https://us02web.zoom.us/j/87546017550 Meeting ID: 875 4601 7550\nOne tap mobile +17193594580\,\,87546017550# US +12532050468\,\,87546017550# US \nView the Agenda
URL:https://www.delnortecolorado.com/event/town-board-meeting-6pm/2026-07-08/
LOCATION:Del Norte Town Hall\, 140 Spruce Street\, Del Norte\, CO\, 81132\, United States
CATEGORIES:Town Board Meetings
END:VEVENT
BEGIN:VEVENT
DTSTART;TZID=America/Denver:20260610T180000
DTEND;TZID=America/Denver:20260610T200000
DTSTAMP:20260422T163904
CREATED:20250915T161339Z
LAST-MODIFIED:20250915T161635Z
UID:10000370-1781114400-1781121600@www.delnortecolorado.com
SUMMARY:Town Board Meeting 6pm
DESCRIPTION:Monthly Town Board Meeting at 6pm Town Hall \nYou may join in on zoom meeting at \nTHIS MEETING IS BEING HELD BY ZOOM AND/OR PHONE OR IN PERSON. PUBLIC AND VISITORS MAY CALL IN USING THE FOLLOWING INFORMATION\nJoin Zoom Meeting https://us02web.zoom.us/j/87546017550 Meeting ID: 875 4601 7550\nOne tap mobile +17193594580\,\,87546017550# US +12532050468\,\,87546017550# US \nView the Agenda
URL:https://www.delnortecolorado.com/event/town-board-meeting-6pm/2026-06-10/
LOCATION:Del Norte Town Hall\, 140 Spruce Street\, Del Norte\, CO\, 81132\, United States
CATEGORIES:Town Board Meetings
END:VEVENT
BEGIN:VEVENT
DTSTART;TZID=America/Denver:20260513T180000
DTEND;TZID=America/Denver:20260513T200000
DTSTAMP:20260422T163904
CREATED:20250915T161339Z
LAST-MODIFIED:20250915T161635Z
UID:10000393-1778695200-1778702400@www.delnortecolorado.com
SUMMARY:Town Board Meeting 6pm
DESCRIPTION:Monthly Town Board Meeting at 6pm Town Hall \nYou may join in on zoom meeting at \nTHIS MEETING IS BEING HELD BY ZOOM AND/OR PHONE OR IN PERSON. PUBLIC AND VISITORS MAY CALL IN USING THE FOLLOWING INFORMATION\nJoin Zoom Meeting https://us02web.zoom.us/j/87546017550 Meeting ID: 875 4601 7550\nOne tap mobile +17193594580\,\,87546017550# US +12532050468\,\,87546017550# US \nView the Agenda
URL:https://www.delnortecolorado.com/event/town-board-meeting-6pm/2026-05-13/
LOCATION:Del Norte Town Hall\, 140 Spruce Street\, Del Norte\, CO\, 81132\, United States
CATEGORIES:Town Board Meetings
END:VEVENT
BEGIN:VEVENT
DTSTART;TZID=America/Denver:20260408T180000
DTEND;TZID=America/Denver:20260408T200000
DTSTAMP:20260422T163904
CREATED:20250915T161339Z
LAST-MODIFIED:20250915T161635Z
UID:10000369-1775671200-1775678400@www.delnortecolorado.com
SUMMARY:Town Board Meeting 6pm
DESCRIPTION:Monthly Town Board Meeting at 6pm Town Hall \nYou may join in on zoom meeting at \nTHIS MEETING IS BEING HELD BY ZOOM AND/OR PHONE OR IN PERSON. PUBLIC AND VISITORS MAY CALL IN USING THE FOLLOWING INFORMATION\nJoin Zoom Meeting https://us02web.zoom.us/j/87546017550 Meeting ID: 875 4601 7550\nOne tap mobile +17193594580\,\,87546017550# US +12532050468\,\,87546017550# US \nView the Agenda
URL:https://www.delnortecolorado.com/event/town-board-meeting-6pm/2026-04-08/
LOCATION:Del Norte Town Hall\, 140 Spruce Street\, Del Norte\, CO\, 81132\, United States
CATEGORIES:Town Board Meetings
END:VEVENT
BEGIN:VEVENT
DTSTART;TZID=America/Denver:20260407T080000
DTEND;TZID=America/Denver:20260407T190000
DTSTAMP:20260422T163904
CREATED:20251217T185335Z
LAST-MODIFIED:20251217T185342Z
UID:10000411-1775548800-1775588400@www.delnortecolorado.com
SUMMARY:Town Election
DESCRIPTION:Town Election April 7 2026 \nElection Voting –  Town Hall
URL:https://www.delnortecolorado.com/event/town-election/
LOCATION:Del Norte Town Hall\, 140 Spruce Street\, Del Norte\, CO\, 81132\, United States
CATEGORIES:Event
END:VEVENT
BEGIN:VEVENT
DTSTART;TZID=America/Denver:20260325T170000
DTEND;TZID=America/Denver:20260325T200000
DTSTAMP:20260422T163904
CREATED:20260319T233907Z
LAST-MODIFIED:20260319T233907Z
UID:10000417-1774458000-1774468800@www.delnortecolorado.com
SUMMARY:Board Work Session & Special Board Meeting 5pm
DESCRIPTION:Town Board Work Session and Special Board Meeting beginning at 5pm \nTown Hall \nAgenda \n 
URL:https://www.delnortecolorado.com/event/board-work-session-special-board-meeting-5pm/
LOCATION:Del Norte Town Hall\, 140 Spruce Street\, Del Norte\, CO\, 81132\, United States
CATEGORIES:Town Board Work Session
END:VEVENT
BEGIN:VEVENT
DTSTART;TZID=America/Denver:20260311T180000
DTEND;TZID=America/Denver:20260311T200000
DTSTAMP:20260422T163904
CREATED:20250915T161339Z
LAST-MODIFIED:20250915T161635Z
UID:10000392-1773252000-1773259200@www.delnortecolorado.com
SUMMARY:Town Board Meeting 6pm
DESCRIPTION:Monthly Town Board Meeting at 6pm Town Hall \nYou may join in on zoom meeting at \nTHIS MEETING IS BEING HELD BY ZOOM AND/OR PHONE OR IN PERSON. PUBLIC AND VISITORS MAY CALL IN USING THE FOLLOWING INFORMATION\nJoin Zoom Meeting https://us02web.zoom.us/j/87546017550 Meeting ID: 875 4601 7550\nOne tap mobile +17193594580\,\,87546017550# US +12532050468\,\,87546017550# US \nView the Agenda
URL:https://www.delnortecolorado.com/event/town-board-meeting-6pm/2026-03-11/
LOCATION:Del Norte Town Hall\, 140 Spruce Street\, Del Norte\, CO\, 81132\, United States
CATEGORIES:Town Board Meetings
END:VEVENT
BEGIN:VEVENT
DTSTART;TZID=America/Denver:20260211T180000
DTEND;TZID=America/Denver:20260211T200000
DTSTAMP:20260422T163904
CREATED:20250915T161339Z
LAST-MODIFIED:20250915T161635Z
UID:10000368-1770832800-1770840000@www.delnortecolorado.com
SUMMARY:Town Board Meeting 6pm
DESCRIPTION:Monthly Town Board Meeting at 6pm Town Hall \nYou may join in on zoom meeting at \nTHIS MEETING IS BEING HELD BY ZOOM AND/OR PHONE OR IN PERSON. PUBLIC AND VISITORS MAY CALL IN USING THE FOLLOWING INFORMATION\nJoin Zoom Meeting https://us02web.zoom.us/j/87546017550 Meeting ID: 875 4601 7550\nOne tap mobile +17193594580\,\,87546017550# US +12532050468\,\,87546017550# US \nView the Agenda
URL:https://www.delnortecolorado.com/event/town-board-meeting-6pm/2026-02-11/
LOCATION:Del Norte Town Hall\, 140 Spruce Street\, Del Norte\, CO\, 81132\, United States
CATEGORIES:Town Board Meetings
END:VEVENT
BEGIN:VEVENT
DTSTART;TZID=America/Denver:20260128T170000
DTEND;TZID=America/Denver:20260128T180000
DTSTAMP:20260422T163904
CREATED:20260121T185849Z
LAST-MODIFIED:20260121T185849Z
UID:10000416-1769619600-1769623200@www.delnortecolorado.com
SUMMARY:Town Board Work Session 5 pm
DESCRIPTION:Town Board Work Session at 5 pm at Town Hall \nAgenda
URL:https://www.delnortecolorado.com/event/town-board-work-session-5-pm-2/
LOCATION:Del Norte Town Hall\, 140 Spruce Street\, Del Norte\, CO\, 81132\, United States
CATEGORIES:Town Board Work Session
END:VEVENT
BEGIN:VEVENT
DTSTART;TZID=America/Denver:20260122T174500
DTEND;TZID=America/Denver:20260122T190000
DTSTAMP:20260422T163904
CREATED:20260113T204131Z
LAST-MODIFIED:20260113T205010Z
UID:10000413-1769103900-1769108400@www.delnortecolorado.com
SUMMARY:Town Board Work Session 5:45pm
DESCRIPTION:Town Board Work Session Thursday January 22\, 2026 at 5:45pm \nWork Session purpose is th Review Rio Grande County Lodging Tax Intergovernmental Agreement
URL:https://www.delnortecolorado.com/event/town-board-work-session-545pm/
LOCATION:Del Norte Town Hall\, 140 Spruce Street\, Del Norte\, CO\, 81132\, United States
CATEGORIES:Town Board Work Session
END:VEVENT
BEGIN:VEVENT
DTSTART;TZID=America/Denver:20260120T170000
DTEND;TZID=America/Denver:20260120T173000
DTSTAMP:20260422T163904
CREATED:20260120T215908Z
LAST-MODIFIED:20260120T215908Z
UID:10000415-1768928400-1768930200@www.delnortecolorado.com
SUMMARY:Planning Commission Meeting 5 pm
DESCRIPTION:Planning Commission Meeting 5 pm \nmeeting agenda
URL:https://www.delnortecolorado.com/event/planning-commission-meeting-5-pm/
LOCATION:Del Norte Town Hall\, 140 Spruce Street\, Del Norte\, CO\, 81132\, United States
CATEGORIES:Planning & Zoning Meetings
END:VEVENT
BEGIN:VEVENT
DTSTART;TZID=America/Denver:20260114T180000
DTEND;TZID=America/Denver:20260114T200000
DTSTAMP:20260422T163904
CREATED:20250915T161339Z
LAST-MODIFIED:20250915T161635Z
UID:10000391-1768413600-1768420800@www.delnortecolorado.com
SUMMARY:Town Board Meeting 6pm
DESCRIPTION:Monthly Town Board Meeting at 6pm Town Hall \nYou may join in on zoom meeting at \nTHIS MEETING IS BEING HELD BY ZOOM AND/OR PHONE OR IN PERSON. PUBLIC AND VISITORS MAY CALL IN USING THE FOLLOWING INFORMATION\nJoin Zoom Meeting https://us02web.zoom.us/j/87546017550 Meeting ID: 875 4601 7550\nOne tap mobile +17193594580\,\,87546017550# US +12532050468\,\,87546017550# US \nView the Agenda
URL:https://www.delnortecolorado.com/event/town-board-meeting-6pm/2026-01-14/
LOCATION:Del Norte Town Hall\, 140 Spruce Street\, Del Norte\, CO\, 81132\, United States
CATEGORIES:Town Board Meetings
END:VEVENT
BEGIN:VEVENT
DTSTART;TZID=America/Denver:20260114T173000
DTEND;TZID=America/Denver:20260114T180000
DTSTAMP:20260422T163904
CREATED:20260113T204610Z
LAST-MODIFIED:20260113T204631Z
UID:10000414-1768411800-1768413600@www.delnortecolorado.com
SUMMARY:Public Hearing Liquor License Renewal 5:30pm
DESCRIPTION:Public Hearing Liquor License Renewal Mellow Moon Lodge \n5:30pm  Town Hall
URL:https://www.delnortecolorado.com/event/public-hearing-mellow-moon/
LOCATION:Del Norte Town Hall\, 140 Spruce Street\, Del Norte\, CO\, 81132\, United States
CATEGORIES:Public Hearings
END:VEVENT
BEGIN:VEVENT
DTSTART;TZID=America/Denver:20260114T170000
DTEND;TZID=America/Denver:20260114T180000
DTSTAMP:20260422T163904
CREATED:20251217T185515Z
LAST-MODIFIED:20251217T185515Z
UID:10000412-1768410000-1768413600@www.delnortecolorado.com
SUMMARY:Town Board Work Session 5 pm
DESCRIPTION:Town Board Work Session 5 Pm –  Town Hall
URL:https://www.delnortecolorado.com/event/town-board-work-session-5-pm/
LOCATION:Del Norte Town Hall\, 140 Spruce Street\, Del Norte\, CO\, 81132\, United States
CATEGORIES:Town Board Work Session
END:VEVENT
BEGIN:VEVENT
DTSTART;TZID=America/Denver:20251211T180000
DTEND;TZID=America/Denver:20251211T190000
DTSTAMP:20260422T163904
CREATED:20251126T204707Z
LAST-MODIFIED:20251126T204817Z
UID:10000409-1765476000-1765479600@www.delnortecolorado.com
SUMMARY:Town Board Work Session 6 pm
DESCRIPTION:Town Board Work Session Dec 11 at 6 pm \nTopic Lodging Tax and Intergovernmental agreements.
URL:https://www.delnortecolorado.com/event/town-board-work-session-6-pm/
LOCATION:Del Norte Town Hall\, 140 Spruce Street\, Del Norte\, CO\, 81132\, United States
CATEGORIES:Town Board Work Session
END:VEVENT
BEGIN:VEVENT
DTSTART;TZID=America/Denver:20251210T180000
DTEND;TZID=America/Denver:20251210T200000
DTSTAMP:20260422T163904
CREATED:20250915T161339Z
LAST-MODIFIED:20250915T161635Z
UID:10000367-1765389600-1765396800@www.delnortecolorado.com
SUMMARY:Town Board Meeting 6pm
DESCRIPTION:Monthly Town Board Meeting at 6pm Town Hall \nYou may join in on zoom meeting at \nTHIS MEETING IS BEING HELD BY ZOOM AND/OR PHONE OR IN PERSON. PUBLIC AND VISITORS MAY CALL IN USING THE FOLLOWING INFORMATION\nJoin Zoom Meeting https://us02web.zoom.us/j/87546017550 Meeting ID: 875 4601 7550\nOne tap mobile +17193594580\,\,87546017550# US +12532050468\,\,87546017550# US \nView the Agenda
URL:https://www.delnortecolorado.com/event/town-board-meeting-6pm/2025-12-10/
LOCATION:Del Norte Town Hall\, 140 Spruce Street\, Del Norte\, CO\, 81132\, United States
CATEGORIES:Town Board Meetings
END:VEVENT
BEGIN:VEVENT
DTSTART;TZID=America/Denver:20251210T173000
DTEND;TZID=America/Denver:20251210T180000
DTSTAMP:20260422T163904
CREATED:20251208T191233Z
LAST-MODIFIED:20251208T191233Z
UID:10000410-1765387800-1765389600@www.delnortecolorado.com
SUMMARY:Public Hearing 5:30pm
DESCRIPTION:Public Hearing for Sursy HR Liquor License DBA Mellow Moon Lodge \nTime: 5:30PM  at Town Hall
URL:https://www.delnortecolorado.com/event/public-hearing-530pm/
LOCATION:Del Norte Town Hall\, 140 Spruce Street\, Del Norte\, CO\, 81132\, United States
CATEGORIES:Public Hearings
END:VEVENT
BEGIN:VEVENT
DTSTART;TZID=America/Denver:20251201T170000
DTEND;TZID=America/Denver:20251201T190000
DTSTAMP:20260422T163904
CREATED:20251126T204458Z
LAST-MODIFIED:20251126T204458Z
UID:10000408-1764608400-1764615600@www.delnortecolorado.com
SUMMARY:Town Board Work Session 5pm
DESCRIPTION:Town Board Work Session at town hall at 5pm  Budget work session
URL:https://www.delnortecolorado.com/event/town-board-work-session-5pm-2/
LOCATION:Del Norte Town Hall\, 140 Spruce Street\, Del Norte\, CO\, 81132\, United States
CATEGORIES:Town Board Work Session
END:VEVENT
BEGIN:VEVENT
DTSTART;TZID=America/Denver:20251117T180000
DTEND;TZID=America/Denver:20251117T200000
DTSTAMP:20260422T163904
CREATED:20251107T010049Z
LAST-MODIFIED:20251107T010049Z
UID:10000406-1763402400-1763409600@www.delnortecolorado.com
SUMMARY:Special Town Board Meeting 6pm
DESCRIPTION:Special Town Board Meeting to Follow Public Meeting \nNovember 17\, 2025 at the Rio Grande Hospital Wellness center
URL:https://www.delnortecolorado.com/event/special-town-board-meeting-6pm/
LOCATION:Rio Grande Hospital Wellness Center\, 0310 County Rd 14\, Del Norte\, CO\, 81132\, United States
CATEGORIES:Town Board Meetings
END:VEVENT
BEGIN:VEVENT
DTSTART;TZID=America/Denver:20251117T180000
DTEND;TZID=America/Denver:20251117T200000
DTSTAMP:20260422T163904
CREATED:20251107T005502Z
LAST-MODIFIED:20251107T005630Z
UID:10000405-1763402400-1763409600@www.delnortecolorado.com
SUMMARY:Public Meeting Waste Water Project
DESCRIPTION:Public Meeting Waste Water Project\n6 pm at the Rio Grande Hospital Wellness Center \n0310 Cty Rd 14 \, Del Norte\, Co 81144 \nRead the Project Notes
URL:https://www.delnortecolorado.com/event/public-meeting-waste-water-project/
LOCATION:Rio Grande Hospital Wellness Center\, 0310 County Rd 14\, Del Norte\, CO\, 81132\, United States
CATEGORIES:Public Hearings
END:VEVENT
BEGIN:VEVENT
DTSTART;TZID=America/Denver:20251112T180000
DTEND;TZID=America/Denver:20251112T200000
DTSTAMP:20260422T163904
CREATED:20250915T161339Z
LAST-MODIFIED:20250915T161635Z
UID:10000390-1762970400-1762977600@www.delnortecolorado.com
SUMMARY:Town Board Meeting 6pm
DESCRIPTION:Monthly Town Board Meeting at 6pm Town Hall \nYou may join in on zoom meeting at \nTHIS MEETING IS BEING HELD BY ZOOM AND/OR PHONE OR IN PERSON. PUBLIC AND VISITORS MAY CALL IN USING THE FOLLOWING INFORMATION\nJoin Zoom Meeting https://us02web.zoom.us/j/87546017550 Meeting ID: 875 4601 7550\nOne tap mobile +17193594580\,\,87546017550# US +12532050468\,\,87546017550# US \nView the Agenda
URL:https://www.delnortecolorado.com/event/town-board-meeting-6pm/2025-11-12/
LOCATION:Del Norte Town Hall\, 140 Spruce Street\, Del Norte\, CO\, 81132\, United States
CATEGORIES:Town Board Meetings
END:VEVENT
BEGIN:VEVENT
DTSTART;TZID=America/Denver:20251112T173000
DTEND;TZID=America/Denver:20251112T180000
DTSTAMP:20260422T163904
CREATED:20251107T010452Z
LAST-MODIFIED:20251107T010854Z
UID:10000407-1762968600-1762970400@www.delnortecolorado.com
SUMMARY:Public Hearing 2026 Proposed Town Budget
DESCRIPTION:Public Hearing for the 2026 Proposed Town Budget\nNovember 12\, 2025 at 5:45pm at Town Hall
URL:https://www.delnortecolorado.com/event/public-hearing-2026-proposed-town-budget/
LOCATION:Del Norte Town Hall\, 140 Spruce Street\, Del Norte\, CO\, 81132\, United States
CATEGORIES:Public Hearings
END:VEVENT
BEGIN:VEVENT
DTSTART;TZID=America/Denver:20251027T170000
DTEND;TZID=America/Denver:20251027T190000
DTSTAMP:20260422T163904
CREATED:20251010T011236Z
LAST-MODIFIED:20251010T011317Z
UID:10000404-1761584400-1761591600@www.delnortecolorado.com
SUMMARY:Town Board Work Session 5pm
DESCRIPTION:Town Board Work Session – Town Budget \n5pm at Town Hall \nSee Agenda
URL:https://www.delnortecolorado.com/event/town-board-work-session-5pm/
LOCATION:Del Norte Town Hall\, 140 Spruce Street\, Del Norte\, CO\, 81132\, United States
CATEGORIES:Town Board Work Session
END:VEVENT
END:VCALENDAR