BEGIN:VCALENDAR
VERSION:2.0
PRODID:-//Del Norte Colorado - ECPv6.15.20//NONSGML v1.0//EN
CALSCALE:GREGORIAN
METHOD:PUBLISH
X-ORIGINAL-URL:https://www.delnortecolorado.com
X-WR-CALDESC:Events for Del Norte Colorado
REFRESH-INTERVAL;VALUE=DURATION:PT1H
X-Robots-Tag:noindex
X-PUBLISHED-TTL:PT1H
BEGIN:VTIMEZONE
TZID:America/Denver
BEGIN:DAYLIGHT
TZOFFSETFROM:-0700
TZOFFSETTO:-0600
TZNAME:MDT
DTSTART:20250309T090000
END:DAYLIGHT
BEGIN:STANDARD
TZOFFSETFROM:-0600
TZOFFSETTO:-0700
TZNAME:MST
DTSTART:20251102T080000
END:STANDARD
BEGIN:DAYLIGHT
TZOFFSETFROM:-0700
TZOFFSETTO:-0600
TZNAME:MDT
DTSTART:20260308T090000
END:DAYLIGHT
BEGIN:STANDARD
TZOFFSETFROM:-0600
TZOFFSETTO:-0700
TZNAME:MST
DTSTART:20261101T080000
END:STANDARD
BEGIN:DAYLIGHT
TZOFFSETFROM:-0700
TZOFFSETTO:-0600
TZNAME:MDT
DTSTART:20270314T090000
END:DAYLIGHT
BEGIN:STANDARD
TZOFFSETFROM:-0600
TZOFFSETTO:-0700
TZNAME:MST
DTSTART:20271107T080000
END:STANDARD
END:VTIMEZONE
BEGIN:VEVENT
DTSTART;TZID=America/Denver:20260122T174500
DTEND;TZID=America/Denver:20260122T190000
DTSTAMP:20260422T163751
CREATED:20260113T204131Z
LAST-MODIFIED:20260113T205010Z
UID:10000413-1769103900-1769108400@www.delnortecolorado.com
SUMMARY:Town Board Work Session 5:45pm
DESCRIPTION:Town Board Work Session Thursday January 22\, 2026 at 5:45pm \nWork Session purpose is th Review Rio Grande County Lodging Tax Intergovernmental Agreement
URL:https://www.delnortecolorado.com/event/town-board-work-session-545pm/
LOCATION:Del Norte Town Hall\, 140 Spruce Street\, Del Norte\, CO\, 81132\, United States
CATEGORIES:Town Board Work Session
END:VEVENT
END:VCALENDAR